BEGIN:VCALENDAR
VERSION:2.0
PRODID:-//Igraorec - ECPv6.7.0//NONSGML v1.0//EN
CALSCALE:GREGORIAN
METHOD:PUBLISH
X-WR-CALNAME:Igraorec
X-ORIGINAL-URL:https://igraorec.mk
X-WR-CALDESC:Events for Igraorec
REFRESH-INTERVAL;VALUE=DURATION:PT1H
X-Robots-Tag:noindex
X-PUBLISHED-TTL:PT1H
BEGIN:VTIMEZONE
TZID:Europe/Skopje
BEGIN:DAYLIGHT
TZOFFSETFROM:+0100
TZOFFSETTO:+0200
TZNAME:CEST
DTSTART:20240331T010000
END:DAYLIGHT
BEGIN:STANDARD
TZOFFSETFROM:+0200
TZOFFSETTO:+0100
TZNAME:CET
DTSTART:20241027T010000
END:STANDARD
TZID:UTC
BEGIN:STANDARD
TZOFFSETFROM:+0000
TZOFFSETTO:+0000
TZNAME:UTC
DTSTART:20240101T000000
END:STANDARD
END:VTIMEZONE
BEGIN:VEVENT
DTSTART;VALUE=DATE:20240831
DTEND;VALUE=DATE:20240906
DTSTAMP:20260424T193540
CREATED:20231115T093524Z
LAST-MODIFIED:20241217T111958Z
UID:1530-1725062400-1725580799@igraorec.mk
SUMMARY:International Festival “BUDVA DANCING 2024” -  31.08.2024 to 04.09.2024
DESCRIPTION:The Folklore Association “Igraorec” – Skopje invites you to take a part on the International Festival “BUDVA DANCING 2024” that will take place in Budva\, most famous holiday place on the Adriatic coast of Montenegro from 31.08.2024 to 04.09.2024. There is possibility for 4 days stay from 01.09.2024 to 05.09.2024.\n  \nFolklore groups\, Modern dance groups and Majorette Teams\, Instrumental groups and Choirs can participate in the festival. \n  \nCONDITIONS OF THE FESTIVAL \n  \nAccommodation \nAll groups will be accommodated in apartments or hotels in center of Budva\, with breakfast and dinner included. \nThe rooms in the hotels are with 3\, 4 (2+2 rooms) and 5 (2+3 rooms) with private bathrooms. The organizer provides two 2 beds  rooms that can be used for leaders and drivers. More double rooms at the request of the group depends on the structure of the hotel/apartment room and an extra charge for accommodation per person is possible. Accommodation is high quality\, with air-condition\, TV\, fridge in the most of the rooms\, close to the  Slovenska beach and in walking distance to the old town of Budva. Depending number of nights that group will stay the price is: \n  \n\n135 euro per person for 4 nights HB basis (breakfast and dinner)\n165 euro per person for 5 nights HB basis (breakfast and dinner)\n\n  \nFor every 25 members (including drivers) the organizer approves gratis accommodation for 1 member. \n  \nImportant: Touristic tax and insurance of 1\,5 EUR per person per day is not included in above prices and should be paid together with the accommodation cost. \n  \nThe total sum must be paid on the day of arrival on the festival\, in cash or in organizer account prior the festival. \nThe groups have to arrive in Budva on 31.08. (01.09. for 4-days staying) starting with dinner and have to depart on 05.09. 2024 after the breakfast. \n  \nApplication fee \nAll applications should be confirmed with application fee of 500 EUR required for a booking of the accommodation. This fee is part of the accommodation costs and must be made payable in full to the organizer account. The account number will be provided additionally after registration of the participants. Any banking costs that arise must be paid by the applicant. If a group cancels its appearance of its own accord\, it will have no right to a refund (unless for justified reasons\, such as a ban or travel restriction due to a pandemic\, then the payment can be used next year). \n  \nRegistration \nDeadline for registration to participate in the festival is 30.06.2024. Until this deadline all Groups that apply to the festival should send application form and pay the application fee to the account of the organizer (will be provided after receiving the application form). \n  \nUntil 31.07.2024 all groups should send 2 pictures suitable for reproduction in flyer/brochure and short biography of the group. \n  \nTravel expenses  \nFolklore groups should have there own transport for arrival and departure to the festival. In case some group arrive by plane\, we can organize the bus transfer from and to the airport of Podgorica or Tivat. Cost for this bus transfer should be paid by the group. \n  \nPerformance \nThe groups have to prepare the performing program of 10 min per performance. The play-back (CD or USB) is allowed. Attached is preliminary program of the festival. The final Program of the festival will be send additionally. \n  \nContact addresses  of organisers \nFor the all questions and sending the application form\, please contact us to the following email address: info@igraorec.mk. \n  \nCHECK THE PROGRAM \nFILL THE APPLICATION FORM (online) \nGET THE APPLICATION FORM (pdf) \n 
URL:https://igraorec.mk/event/international-festival-budva-dancing-2024-31-08-2024-to-05-09-2024/
CATEGORIES:International Festivals Budva, Montenegro
ATTACH;FMTTYPE=image/png:https://igraorec.mk/wp-content/uploads/2023/11/budva-event.png
ORGANIZER;CN="FOLKLORE ASSOCIATION %E2%80%9CIGRAOREC%E2%80%9D":MAILTO:info@igraorec.mk
END:VEVENT
BEGIN:VEVENT
DTSTART;VALUE=DATE:20240906
DTEND;VALUE=DATE:20240911
DTSTAMP:20260424T193540
CREATED:20231031T115807Z
LAST-MODIFIED:20231114T115831Z
UID:1245-1725580800-1726012799@igraorec.mk
SUMMARY:4rd International Folk Festival “OHRID FESTIVAL 2024” - 06.09.2024 to 10.09.2024
DESCRIPTION:The Folklore Association “Igraorec” – Skopje invites you to take a part on 4rd International FolkFestival“OHRID FESTIVAL 2024” that will take place in Ohrid on the following date 06.09. 2024 – 10.09.2024\n\n\nConditions of the festival:\n\n\n\nThe festival will take place in Ohrid\, protected city and lake of UNESCO with reach historical and cultural past.\nFolklore groups\, Modern dance groups and Majorette Teams\, Instrumental groups and Choirs can participate in the festival.\nThe number of members is not limited\, but depends of the capacity of the hotel (all ages are allowed).\nThe groups will be accommodated in hotels or in children hostel (accommodation is depending of the group choice).\nThe price for 4 nights HB basis(breakfast and dinner) is 120 EUR/per member for 3 stars hotels (Montenegrin\, Congress Center\, City Inn )\, 140 EUR/per member for hotel Pela. The price for 3 days HB (breakfast and dinner) is 95 EUR per member for 3 stars hotels\, 110 EUR per member for Pela. The rooms in the hotels are with 3 and 4 beds with private bathrooms. The organizer provides two 2 beds rooms that can be used for leaders and drivers. More double rooms at the request of the group depends on the structure of the hotel/apartment room and an extra charge for accommodation per person is possible. For every 25 members (including drivers) the organizer approves gratis accommodation for 1 member.\nThe rooms in the hostel are with 6 – 8 beds. All rooms have own toilet and shower. The price for 4 days in the hostel Full Board (3 meals/per day included) is 90 EUR/per member. The price for 5 days in the hostel Full Board (3 meals/per day included) is 110 EUR/per member. For every 25 members (including drivers) the organizer approves gratis accommodation for 1 member. The hostel is only available for children and youth groups.\nImportant: the tourist tax of 0.7 EUR per person per day is not included in the price and should be paid together with the accommodation costs.\nThe total sum must be paid on the day of arrival on the festival\, in cash or in organizer account prior the festival.\nThe group can prolong their stay to 5 or more days. Please ask organizer for the accommodation price.\nAll applications should be confirmed with application fee of 300 EUR required for a booking of the hotels/hostels. This fee is part of the accommodation costs and must be made payable in full to the organizer account. The account number will be provided additionally after registration of the participants. Any banking costs that arise must be paid by the applicant. If a group cancels its appearance of its own accord\, it will have no right to a refund (unless for justified reasons\, such as a ban or travel restriction due to a pandemic\, then the payment can be used next year).\nThe groups have to prepare the performing program of 10 min per performance. The play-back (CD or USB) is allowed. The final Program of the festival will be send additionally.\n\n  \nIf you accept the above mentioned conditions\, please confirm your participation no latest than 15.03.2024 by e-mail (info@igraorec.mk) with sending application form\, short history and two pictures of the group (with good resolution). \n\n  \nCHECK THE PROGRAM \nFILL THE APPLICATION FORM (online) \nGET THE APPLICATION FORM (pdf) \nGET THE APPLICATION FORM  SRB/CRO/BIH/MNE (pdf)
URL:https://igraorec.mk/event/4rd-international-folk-festival-ohrid-festival-2024-06-09-2024-to-10-09-2024/
CATEGORIES:International Festivals Ohrid, Macedonia
ATTACH;FMTTYPE=image/png:https://igraorec.mk/wp-content/uploads/2023/11/Night-Music.png
ORGANIZER;CN="FOLKLORE ASSOCIATION %E2%80%9CIGRAOREC%E2%80%9D":MAILTO:info@igraorec.mk
END:VEVENT
END:VCALENDAR