BEGIN:VCALENDAR
VERSION:2.0
PRODID:-//Igraorec - ECPv6.7.0//NONSGML v1.0//EN
CALSCALE:GREGORIAN
METHOD:PUBLISH
X-WR-CALNAME:Igraorec
X-ORIGINAL-URL:https://igraorec.mk
X-WR-CALDESC:Events for Igraorec
REFRESH-INTERVAL;VALUE=DURATION:PT1H
X-Robots-Tag:noindex
X-PUBLISHED-TTL:PT1H
BEGIN:VTIMEZONE
TZID:Europe/Skopje
BEGIN:DAYLIGHT
TZOFFSETFROM:+0100
TZOFFSETTO:+0200
TZNAME:CEST
DTSTART:20250330T010000
END:DAYLIGHT
BEGIN:STANDARD
TZOFFSETFROM:+0200
TZOFFSETTO:+0100
TZNAME:CET
DTSTART:20251026T010000
END:STANDARD
END:VTIMEZONE
BEGIN:VEVENT
DTSTART;VALUE=DATE:20250806
DTEND;VALUE=DATE:20250811
DTSTAMP:20260420T192454
CREATED:20241217T113527Z
LAST-MODIFIED:20241217T113600Z
UID:1782-1754438400-1754870399@igraorec.mk
SUMMARY:International Festival "CULTURAL SUMMER KRALJEVICA 2025" - Kraljevica\, Croatia
DESCRIPTION:Dear Sir or Madam\, \n\nThe Folklore Association “Igraorec” – Skopje and Folk Music Club “TERPSIHORA” – Banja Luka invites you to take a part on the International Festival “CULTURAL SUMMER KRALJEVICA 2025” that will take place in Kraljevica\, a famous summer resorts on the Adriatic coast of Croatia\, about twenty kilometers south of Rijeka from 06.08.2025 to 10.08.2025. \nCONDITIONS OF THE FESTIVAL \nAccommodation in Hotel „Uvala Scott“ Kraljevica: \nAccommodation is in Hotel „Uvala Scott“ with breakfast and dinner for 4 nights. The accommodation is located above the beach itself\, the rooms are with 3 beds with private bathrooms. \n\nFor the period of 4 nights the price is as follows: \n\n\n195 euros per person for 4 nights on a half-board basis (breakfast and dinner)\n\n\nFor every 25 members (including drivers) the organizer approves gratis accommodation for 1 member. \n\nImportant: Touristic tax and insurance of 1\,75 EUR per person per day is not included in above prices and should be paid together with the accommodation cost. \n\nPayment: \nAs confirmation of its participation in the festival\, the group should pay 500€ in advance and the rest not later than 20 days before the festival by bank transfer to the organizer account. Please note that the hotel do not accept payment in cash and required payment in full by bank transfer. The account number will be provided additionally after registration of the participants. Any banking costs that arise must be paid by the applicant. If a group cancels its appearance of its own accord\, it will have no right to a refund of the advanced payment. \n\nCancellation per participant:  \nThe groups need to send the final number of participants to the organizer no later than 45 days before arriving to the festival. \nIf some person from the group cancel\, the hotel requested penalty fee that must be paid to the hotel for that person: \n\nif cancellation is from 30-44 days before arrival\, 30% of the total amount should be paid\nif cancellation is 15-29 days before arrival\, 75% of the total amount should be paid\n100% of the amount should be paid if cancellation is up to 14 days before arrival\n\n\nRegistration: \nDeadline for registration to participate in the festival is 15.03.2025. Until this deadline all Groups that apply to the festival should send application form and pay the application fee to the account of the organizer (will be provided after receiving the application form). \n\nBecause of limited capacity of the hotel\, the reservations are made only with advance payment. In order to keep you place in the hotel\, we recommend you to make a reservation as soon as possible\, because reservations are made according to the “first payment – first reservation” principle. \n\nUntil 15.04.2025 all groups should send final list of participants\, 2 pictures suitable for reproduction in flyer/brochure and short biography of the group. \nTravel expenses: \nFolklore groups should have there own transport for arrival and departure to the festival. In case some group arrive by plane\, we can organize the bus transfer. Cost for this bus transfer should be paid by the group. \nPerformance: \nThe groups have to prepare the performing program of 10 min per performance. The play-back (CD or USB) is allowed. Attached is preliminary program of the festival. The final Program of the festival will be send additionally. \nContact addresses of organisers:  \nFor the all questions and sending the application form\, please contact us to the following email addresses: info@igraorec.mk. \n\n\nCHECK THE PROGRAM \nFILL THE APPLICATION FORM (online) \nGET THE APPLICATION FORM (pdf)
URL:https://igraorec.mk/event/international-festival-cultural-summer-kraljevica-2025-kraljevica-croatia/
CATEGORIES:International Festivals Kraljevica, Croatia
ATTACH;FMTTYPE=image/jpeg:https://igraorec.mk/wp-content/uploads/2023/11/Kraljevica-bg.jpg
END:VEVENT
BEGIN:VEVENT
DTSTART;VALUE=DATE:20250814
DTEND;VALUE=DATE:20250819
DTSTAMP:20260420T192454
CREATED:20241105T144610Z
LAST-MODIFIED:20241126T092059Z
UID:1689-1755129600-1755561599@igraorec.mk
SUMMARY:18th International Folk Festival “OHRID SUN” - 14.08.2025 to 18.08.2025
DESCRIPTION:Dear Sir or Madam\, \n  \nThe Folklore Association “Igraorec” – Skopje invites you to take a part on International Folk Festivals that will take place in Ohrid on the following dates: 14.08. – 18.08.2025. \n  \nConditions of the festival: \n\nThe festival will take place in Ohrid\, protected city and lake of UNESCO with reach historical and cultural past.\nFolklore groups\, Modern dance groups and Majorette Teams\, Instrumental groups and Choirs can participate in the festival.\nThe number of members is not limited\, but depends of the capacity of the hotel (all ages are allowed).\nThe groups will be accommodated in hotels or in children hostel (accommodation is depending of the group choice).\nThe price for 4 nights HB basis(breakfast and dinner) is 135 EUR/per member for 3 stars hotels (Montenegrin\, Congress Center\, City Inn\, Cingo\, Kocarev )\, 150 EUR/per member for hotel Pela and Village. The price for 3 days HB (breakfast and dinner) is 105 EUR per member for 3 stars hotels\, 115 EUR per member for Pela and Village. The rooms in the hotels are with 3 and 4 beds with private bathrooms. The organizer provides two 2 beds rooms that can be used for leaders and drivers. More double rooms at the request of the group depends on the structure of the hotel/apartment room and an extra charge for accommodation per person is possible. For every 25 members (including drivers) the organizer approves gratis accommodation for 1 member.\nThe rooms in the hostel are with 6 – 8 beds. All rooms have own toilet and shower. The price for 4 days in the hostel Full Board (3 meals/per day included) is 110 EUR/per member. For every 25 members (including drivers) the organizer approves gratis accommodation for 1 member. The hostel is only available for children and youth groups.\nImportant: the tourist tax of 0.7 EUR per person per day is not included in the price and should be paid together with the accommodation costs.\nThe total sum must be paid on the day of arrival on the festival\, in cash or in organizer account prior the festival.\nThe group can prolong their stay to 5 or more days. Please ask organizer for the accommodation price.\nAll applications should be confirmed with application fee of 500 EUR required for a booking of the hotels/hostels. This fee is part of the accommodation costs and must be made payable in full to the organizer account. The account number will be provided additionally after registration of the participants. Any banking costs that arise must be paid by the applicant. If a group cancels its appearance of its own accord\, it will have no right to a refund (unless for justified reasons\, such as a ban or travel restriction due to a pandemic\, then the payment can be used next year).\nThe groups have to prepare the performing program of 10 min per performance. The play-back (CD or USB) is allowed. The final Program of the festival will be send additionally.\n\n  \nIf you accept the above mentioned conditions\, please confirm your participation no latest than 15.03.2025 by e-mail (info@igraorec.mk) with sending application form\, short history and two pictures of the group (with good resolution). Hotel reservations are made after advance payment and the organizer does not guarantee that there will be a free place in the selected hotel\, because reservations are made according to the “first payment – first reservation” principle. That is why we recommend that you make a reservation as soon as possible in order to guarantee you a place in the selected hotel. \n  \nemail: info@igraorec.mk \n  \n  \nCHECK THE PROGRAM \nFILL THE APPLICATION FORM (online) \nGET THE APPLICATION FORM (pdf) \n 
URL:https://igraorec.mk/event/18th-international-folk-festival-ohrid-sun-14-08-2025-to-18-08-2025/
CATEGORIES:International Festivals Ohrid, Macedonia
ATTACH;FMTTYPE=image/png:https://igraorec.mk/wp-content/uploads/2024/11/ohrid.png
END:VEVENT
BEGIN:VEVENT
DTSTART;VALUE=DATE:20250818
DTEND;VALUE=DATE:20250823
DTSTAMP:20260420T192454
CREATED:20241105T144652Z
LAST-MODIFIED:20241126T092043Z
UID:1690-1755475200-1755907199@igraorec.mk
SUMMARY:18th International Folk Festival “OHRID SUN” - 18.08.2025 to 22.08.2025
DESCRIPTION:Dear Sir or Madam\, \n  \nThe Folklore Association “Igraorec” – Skopje invites you to take a part on International Folk Festivals that will take place in Ohrid on the following dates:  18.08. – 22.08.2025. \n  \nConditions of the festival: \n\nThe festival will take place in Ohrid\, protected city and lake of UNESCO with reach historical and cultural past.\nFolklore groups\, Modern dance groups and Majorette Teams\, Instrumental groups and Choirs can participate in the festival.\nThe number of members is not limited\, but depends of the capacity of the hotel (all ages are allowed).\nThe groups will be accommodated in hotels or in children hostel (accommodation is depending of the group choice).\nThe price for 4 nights HB basis(breakfast and dinner) is 135 EUR/per member for 3 stars hotels (Montenegrin\, Congress Center\, City Inn\, Cingo\, Kocarev )\, 150 EUR/per member for hotel Pela and Village. The price for 3 days HB (breakfast and dinner) is 105 EUR per member for 3 stars hotels\, 115 EUR per member for Pela and Village. The rooms in the hotels are with 3 and 4 beds with private bathrooms. The organizer provides two 2 beds rooms that can be used for leaders and drivers. More double rooms at the request of the group depends on the structure of the hotel/apartment room and an extra charge for accommodation per person is possible. For every 25 members (including drivers) the organizer approves gratis accommodation for 1 member.\nThe rooms in the hostel are with 6 – 8 beds. All rooms have own toilet and shower. The price for 4 days in the hostel Full Board (3 meals/per day included) is 110 EUR/per member. For every 25 members (including drivers) the organizer approves gratis accommodation for 1 member. The hostel is only available for children and youth groups.\nImportant: the tourist tax of 0.7 EUR per person per day is not included in the price and should be paid together with the accommodation costs.\nThe total sum must be paid on the day of arrival on the festival\, in cash or in organizer account prior the festival.\nThe group can prolong their stay to 5 or more days. Please ask organizer for the accommodation price.\nAll applications should be confirmed with application fee of 500 EUR required for a booking of the hotels/hostels. This fee is part of the accommodation costs and must be made payable in full to the organizer account. The account number will be provided additionally after registration of the participants. Any banking costs that arise must be paid by the applicant. If a group cancels its appearance of its own accord\, it will have no right to a refund (unless for justified reasons\, such as a ban or travel restriction due to a pandemic\, then the payment can be used next year).\nThe groups have to prepare the performing program of 10 min per performance. The play-back (CD or USB) is allowed. The final Program of the festival will be send additionally.\n\n  \nIf you accept the above mentioned conditions\, please confirm your participation no latest than 15.03.2025 by e-mail (info@igraorec.mk) with sending application form\, short history and two pictures of the group (with good resolution). Hotel reservations are made after advance payment and the organizer does not guarantee that there will be a free place in the selected hotel\, because reservations are made according to the “first payment – first reservation” principle. That is why we recommend that you make a reservation as soon as possible in order to guarantee you a place in the selected hotel. \n  \nemail: info@igraorec.mk \n  \n  \nCHECK THE PROGRAM \nFILL THE APPLICATION FORM (online) \nGET THE APPLICATION FORM (pdf) \n 
URL:https://igraorec.mk/event/18th-international-folk-festival-ohrid-sun-18-08-2025-to-22-08-2025/
CATEGORIES:International Festivals Ohrid, Macedonia
ATTACH;FMTTYPE=image/png:https://igraorec.mk/wp-content/uploads/2024/11/ohrid.png
END:VEVENT
BEGIN:VEVENT
DTSTART;VALUE=DATE:20250822
DTEND;VALUE=DATE:20250827
DTSTAMP:20260420T192454
CREATED:20241105T145029Z
LAST-MODIFIED:20241126T092016Z
UID:1697-1755820800-1756252799@igraorec.mk
SUMMARY:18th International Folk Festival “OHRID SUN” - 22.08.2025 to 26.08.2025
DESCRIPTION:Dear Sir or Madam\, \n  \nThe Folklore Association “Igraorec” – Skopje invites you to take a part on International Folk Festivals that will take place in Ohrid on the following dates: 22.08. – 26.08.2025. \n  \nConditions of the festival: \n\nThe festival will take place in Ohrid\, protected city and lake of UNESCO with reach historical and cultural past.\nFolklore groups\, Modern dance groups and Majorette Teams\, Instrumental groups and Choirs can participate in the festival.\nThe number of members is not limited\, but depends of the capacity of the hotel (all ages are allowed).\nThe groups will be accommodated in hotels or in children hostel (accommodation is depending of the group choice).\nThe price for 4 nights HB basis(breakfast and dinner) is 135 EUR/per member for 3 stars hotels (Montenegrin\, Congress Center\, City Inn\, Cingo\, Kocarev )\, 150 EUR/per member for hotel Pela and Village. The price for 3 days HB (breakfast and dinner) is 105 EUR per member for 3 stars hotels\, 115 EUR per member for Pela and Village. The rooms in the hotels are with 3 and 4 beds with private bathrooms. The organizer provides two 2 beds rooms that can be used for leaders and drivers. More double rooms at the request of the group depends on the structure of the hotel/apartment room and an extra charge for accommodation per person is possible. For every 25 members (including drivers) the organizer approves gratis accommodation for 1 member.\nThe rooms in the hostel are with 6 – 8 beds. All rooms have own toilet and shower. The price for 4 days in the hostel Full Board (3 meals/per day included) is 110 EUR/per member. For every 25 members (including drivers) the organizer approves gratis accommodation for 1 member. The hostel is only available for children and youth groups.\nImportant: the tourist tax of 0.7 EUR per person per day is not included in the price and should be paid together with the accommodation costs.\nThe total sum must be paid on the day of arrival on the festival\, in cash or in organizer account prior the festival.\nThe group can prolong their stay to 5 or more days. Please ask organizer for the accommodation price.\nAll applications should be confirmed with application fee of 500 EUR required for a booking of the hotels/hostels. This fee is part of the accommodation costs and must be made payable in full to the organizer account. The account number will be provided additionally after registration of the participants. Any banking costs that arise must be paid by the applicant. If a group cancels its appearance of its own accord\, it will have no right to a refund (unless for justified reasons\, such as a ban or travel restriction due to a pandemic\, then the payment can be used next year).\nThe groups have to prepare the performing program of 10 min per performance. The play-back (CD or USB) is allowed. The final Program of the festival will be send additionally.\n\n  \nIf you accept the above mentioned conditions\, please confirm your participation no latest than 15.03.2025 by e-mail (info@igraorec.mk) with sending application form\, short history and two pictures of the group (with good resolution). Hotel reservations are made after advance payment and the organizer does not guarantee that there will be a free place in the selected hotel\, because reservations are made according to the “first payment – first reservation” principle. That is why we recommend that you make a reservation as soon as possible in order to guarantee you a place in the selected hotel. \n  \nemail: info@igraorec.mk \n  \n  \nCHECK THE PROGRAM \nFILL THE APPLICATION FORM (online) \nGET THE APPLICATION FORM (pdf) \n 
URL:https://igraorec.mk/event/18th-international-folk-festival-ohrid-sun-22-08-2025-to-26-08-2025/
CATEGORIES:International Festivals Ohrid, Macedonia
ATTACH;FMTTYPE=image/png:https://igraorec.mk/wp-content/uploads/2024/11/ohrid.png
END:VEVENT
BEGIN:VEVENT
DTSTART;VALUE=DATE:20250827
DTEND;VALUE=DATE:20250901
DTSTAMP:20260420T192454
CREATED:20241126T095206Z
LAST-MODIFIED:20241217T112526Z
UID:1757-1756252800-1756684799@igraorec.mk
SUMMARY:International Festival “BUDVA DANCING 2025” - 27.08.2025 to 31.08.2025
DESCRIPTION:Dear Sir or Madam\, \n  \nThe Folklore Association “Igraorec” – Skopje invites you to take a part on the International Festival “BUDVA DANCING 2025” that will take place in Budva\, most famous holiday place on the Adriatic coast of Montenegro from 26.08.2025 to 31.08.2025. There is possibility for 4 nights stay from 27.08.2025 to 31.08.2025. \n  \nFolklore groups\, Modern dance groups and Majorette Teams\, Instrumental groups and Choirs can participate in the festival. \n  \nCONDITIONS OF THE FESTIVAL \n  \nAccommodation \nAll groups will be accommodated in apartments or hotels in center of Budva\, with breakfast and dinner included. \nThe rooms in the hotels are with 3\, 4 (2+2 rooms) and 5 (2+3 rooms) with private bathrooms. The organizer provides two 2 beds  rooms that can be used for leaders and drivers. More double rooms at the request of the group depends on the structure of the hotel/apartment room and an extra charge for accommodation per person is possible. Accommodation is high quality\, with air-condition\, TV\, fridge in the most of the rooms\, close to the  Slovenska beach and in walking distance to the old town of Budva. \n  \nDepending number of nights that group will stay the price is: \n(towels and basic hygiene products are included in the price) \n  \n\n165 euro per person for 4 nights HB basis (breakfast and dinner)\n198 euro per person for 5 nights HB basis (breakfast and dinner)\n\n  \n  \nFor every 25 members (including drivers) the organizer approves gratis accommodation for 1 member. \n  \nImportant: Touristic tax and insurance of 1\,5 EUR per person per day is not included in above prices and should be paid together with the accommodation cost. \n  \nThe total sum must be paid on the day of arrival on the festival\, in cash or in organizer account prior the festival. \n  \nThe groups have to arrive in Budva on 26.08. (27.08. for 4-nights staying) starting with dinner and have to depart on 31.08.2025 after the breakfast. \n  \n  \nApplication fee \nAll applications should be confirmed with application fee of 500 EUR required for a booking of the accommodation. This fee is part of the accommodation costs and must be made payable in full to the organizer account. The account number will be provided additionally after registration of the participants. Any banking costs that arise must be paid by the applicant. If a group cancels its appearance of its own accord\, it will have no right to a refund (unless for justified reasons\, such as a ban or travel restriction due to a pandemic\, then the payment can be used next year). \n  \nRegistration: \nDeadline for registration to participate in the festival is 15.03.2025. Until this deadline all Groups that apply to the festival should send application form and pay the application fee to the account of the organizer (will be provided after receiving the application form). \n  \nUntil 15.03.2025 all groups should send 2 pictures suitable for reproduction in flyer/brochure and short biography of the group. \n  \n  \nTravel expenses  \nFolklore groups should have there own transport for arrival and departure to the festival. In case some group arrive by plane\, we can organize the bus transfer from and to the airport of Podgorica or Tivat. Cost for this bus transfer should be paid by the group. \n  \n  \nPerformance \nThe groups have to prepare the performing program of 10 min per performance. The play-back (CD or USB) is allowed. Attached is preliminary program of the festival. The final Program of the festival will be send additionally. \n  \n  \nContact addresses  of organisers:  \nFor the all questions and sending the application form\, please contact us to the following email address: info@igraorec.mk. \n  \n  \nCHECK THE PROGRAM \nFILL THE APPLICATION FORM (online) \nGET THE APPLICATION FORM (pdf)
URL:https://igraorec.mk/event/international-festival-budva-dancing-2025-27-08-2025-to-31-08-2025/
CATEGORIES:International Festivals Budva, Montenegro
ATTACH;FMTTYPE=image/png:https://igraorec.mk/wp-content/uploads/2024/11/budva.png
END:VEVENT
BEGIN:VEVENT
DTSTART;VALUE=DATE:20250831
DTEND;VALUE=DATE:20250905
DTSTAMP:20260420T192454
CREATED:20241126T095358Z
LAST-MODIFIED:20241217T112505Z
UID:1758-1756598400-1757030399@igraorec.mk
SUMMARY:International Festival “BUDVA DANCING 2025” - 31.08.2025 to 04.09.2025
DESCRIPTION:Dear Sir or Madam\, \n  \nThe Folklore Association “Igraorec” – Skopje invites you to take a part on the International Festival “BUDVA DANCING 2025” that will take place in Budva\, most famous holiday place on the Adriatic coast of Montenegro from 31.08.2025 to 05.09.2024. There is possibility for 4 nights stay from 31.08.2025 to 04.09.2025. \n  \nFolklore groups\, Modern dance groups and Majorette Teams\, Instrumental groups and Choirs can participate in the festival. \n  \nCONDITIONS OF THE FESTIVAL \n  \nAccommodation \nAll groups will be accommodated in apartments or hotels in center of Budva\, with breakfast and dinner included. \nThe rooms in the hotels are with 3\, 4 (2+2 rooms) and 5 (2+3 rooms) with private bathrooms. The organizer provides two 2 beds  rooms that can be used for leaders and drivers. More double rooms at the request of the group depends on the structure of the hotel/apartment room and an extra charge for accommodation per person is possible. Accommodation is high quality\, with air-condition\, TV\, fridge in the most of the rooms\, close to the  Slovenska beach and in walking distance to the old town of Budva. \n  \nDepending number of nights that group will stay the price is: \n(towels and basic hygiene products are included in the price) \n  \n\n155 euro per person for 4 nights HB basis (breakfast and dinner)\n185 euro per person for 5 nights HB basis (breakfast and dinner)\n\n  \n  \nFor every 25 members (including drivers) the organizer approves gratis accommodation for 1 member. \n  \nImportant: Touristic tax and insurance of 1\,5 EUR per person per day is not included in above prices and should be paid together with the accommodation cost. \n  \nThe total sum must be paid on the day of arrival on the festival\, in cash or in organizer account prior the festival. \n  \nThe groups have to arrive in Budva on 31.08. starting with dinner and have to depart on 05.09. 2025 after the breakfast. (04.09. for 4- nights staying). \n  \n  \nApplication fee \nAll applications should be confirmed with application fee of 500 EUR required for a booking of the accommodation. This fee is part of the accommodation costs and must be made payable in full to the organizer account. The account number will be provided additionally after registration of the participants. Any banking costs that arise must be paid by the applicant. If a group cancels its appearance of its own accord\, it will have no right to a refund (unless for justified reasons\, such as a ban or travel restriction due to a pandemic\, then the payment can be used next year). \n  \nRegistration \nDeadline for registration to participate in the festival is 30.06.2025. Until this deadline all Groups that apply to the festival should send application form and pay the application fee to the account of the organizer (will be provided after receiving the application form). \n  \nUntil 31.07.2025 all groups should send 2 pictures suitable for reproduction in flyer/brochure and short biography of the group. \n  \n  \nTravel expenses  \nFolklore groups should have there own transport for arrival and departure to the festival. In case some group arrive by plane\, we can organize the bus transfer from and to the airport of Podgorica or Tivat. Cost for this bus transfer should be paid by the group. \n  \n  \nPerformance \nThe groups have to prepare the performing program of 10 min per performance. The play-back (CD or USB) is allowed. Attached is preliminary program of the festival. The final Program of the festival will be send additionally. \n  \n  \nContact addresses  of organisers \nFor the all questions and sending the application form\, please contact us to the following email address: info@igraorec.mk. \n  \n  \nCHECK THE PROGRAM \nFILL THE APPLICATION FORM (online) \nGET THE APPLICATION FORM (pdf)
URL:https://igraorec.mk/event/international-festival-budva-dancing-2025-31-08-2025-to-04-09-2025/
CATEGORIES:International Festivals Budva, Montenegro
ATTACH;FMTTYPE=image/png:https://igraorec.mk/wp-content/uploads/2024/11/budva.png
END:VEVENT
END:VCALENDAR